BEGIN:VCALENDAR
VERSION:2.0
PRODID:-//ChamberMaster//Event Calendar 2.0//EN
METHOD:PUBLISH
X-PUBLISHED-TTL:P3D
REFRESH-INTERVAL:P3D
CALSCALE:GREGORIAN
BEGIN:VEVENT
DTSTART:20190911T180000Z
DTEND:20190911T190000Z
X-MICROSOFT-CDO-ALLDAYEVENT:FALSE
SUMMARY:9/11 - Networking at Noon
DESCRIPTION:Networking at Noon is back again this month.... at The Bottled Olive! Michelle Krusmark is excited to host Networking at Noon in her location in Windsor! She will be raffling gift bags with olive oil\, spices and vinegar. Plus\, one lucky participant will receive a gift card for a cooking class.  \n\n\n\nJoin us at The Bottled Olive for great food\, excellent networking and a chance to see this truly unique business right here in Windsor.
X-ALT-DESC;FMTTYPE=text/html:Networking at Noon is back again this month.... at The Bottled Olive! Michelle Krusmark&nbsp\;is excited to host Networking at Noon in her location in Windsor! She will be raffling gift bags with olive oil\, spices and vinegar. Plus\, one lucky participant will receive a gift card for a cooking class. &nbsp\;<br />\n<br />\nJoin us at The Bottled Olive for great food\, excellent networking and a chance to see this truly unique business right here in Windsor.<br />\n<br />\n&nbsp\;
LOCATION:Located in the King Soopers shopping center.
UID:e.2900.2060
SEQUENCE:3
DTSTAMP:20260421T015606Z
URL:http://windsorco.chambermaster.com/events/details/9-11-networking-at-noon-2060
END:VEVENT

END:VCALENDAR
