BEGIN:VCALENDAR
VERSION:2.0
PRODID:-//ChamberMaster//Event Calendar 2.0//EN
METHOD:PUBLISH
X-PUBLISHED-TTL:P3D
REFRESH-INTERVAL:P3D
CALSCALE:GREGORIAN
BEGIN:VEVENT
DTSTART:20190606T223000Z
DTEND:20190607T013000Z
X-MICROSOFT-CDO-ALLDAYEVENT:FALSE
SUMMARY:FREE Ice Cream Blast
DESCRIPTION:Join the Windsor Chamber for our NEW Ice Cream Blast. Meet our Board\, Ambassadors and Staff as we handout free ice cream donated by Freddy's.
X-ALT-DESC;FMTTYPE=text/html:Join the Windsor Chamber for our NEW Ice Cream Blast. Meet our Board\, Ambassadors and Staff as we handout free ice cream donated by Freddy&#39\;s.&nbsp\;
LOCATION:Boardwalk Pavillion
UID:e.2900.1622
SEQUENCE:3
DTSTAMP:20260423T062718Z
URL:http://windsorco.chambermaster.com/events/details/free-ice-cream-blast-1622
END:VEVENT

END:VCALENDAR
