BEGIN:VCALENDAR
VERSION:2.0
PRODID:-//ChamberMaster//Event Calendar 2.0//EN
METHOD:PUBLISH
X-PUBLISHED-TTL:P3D
REFRESH-INTERVAL:P3D
CALSCALE:GREGORIAN
BEGIN:VEVENT
DTSTART:20190710T180000Z
DTEND:20190710T190000Z
X-MICROSOFT-CDO-ALLDAYEVENT:FALSE
SUMMARY:Networking at Noon
DESCRIPTION:Networking at Noon is back! Join us this month at Rocky Mountain Chiro & Sports Injury Centers! \n\n\n\nRocky Mountain Chiropractic and Sports Injury Centers provides quality chiropractic care in Windsor\, CO and the surrounding areas.  It is our mission to improve your quality of life by teaching healthy living principles for optimum health\, longevity and wellness.\n\n\n\nREGISTER TO GIVE A $25+ RAFFLE PRIZE by clicking Register here. In the comments section\, describe your prize. We will give you 60 seconds to address the group\, select the winning business card and present your gift to the winner.
X-ALT-DESC;FMTTYPE=text/html:Networking at Noon is back! Join us this month at Rocky Mountain Chiro &amp\; Sports Injury Centers!&nbsp\;<br />\n<br />\nRocky Mountain Chiropractic and Sports Injury Centers provides quality chiropractic care in Windsor\, CO and the surrounding areas.&nbsp\; It is our mission to improve your quality of life by teaching healthy living principles for optimum health\, longevity and wellness.<br />\n<br />\n<strong>REGISTER TO GIVE A $25+ RAFFLE PRIZE</strong> by clicking Register here. In the comments section\, describe your prize. We will give you 60 seconds to address the group\, select the winning business card and present your gift to the winner.
LOCATION:
UID:e.2900.1646
SEQUENCE:3
DTSTAMP:20260423T073107Z
URL:http://windsorco.chambermaster.com/events/details/networking-at-noon-1646
END:VEVENT

END:VCALENDAR
